BEGIN:VCALENDAR
VERSION:2.0
PRODID:-//Squarespace Inc/Squarespace 6//v6//EN
BEGIN:VEVENT
UID:5b0c95ec70a6addca9f63141@squarespace.com
DTSTAMP:20180712T092012Z
DTSTART:20180701T223000Z
DTEND:20180702T003000Z
SUMMARY:Super duper drawstring bag
GEO:-41.210331;174.93439
LOCATION:ReMakery\, 310 Waiwhetu Road\, Lower Hutt\, Wellington\, 5011\, Ne
 w Zealand
END:VEVENT
END:VCALENDAR
