BEGIN:VCALENDAR
VERSION:2.0
PRODID:-//Squarespace Inc/Squarespace 6//v6//EN
BEGIN:VEVENT
UID:5b0c89c76d2a73781c4c5cca@squarespace.com
DTSTAMP:20180712T092507Z
DTSTART:20180723T223000Z
DTEND:20180724T003000Z
SUMMARY:Bandana bibs and baby burp cloths
GEO:-41.210331;174.93439
LOCATION:The ReMakery\, 310 Waiwhetu Road\, Lower Hutt\, Wellington\, 5011\
 , New Zealand
END:VEVENT
END:VCALENDAR
