BEGIN:VCALENDAR
VERSION:2.0
PRODID:-//Squarespace Inc/Squarespace 6//v6//EN
BEGIN:VEVENT
UID:5b0c92b5562fa7e07b29430c@squarespace.com
DTSTAMP:20180612T033159Z
DTSTART:20180629T220000Z
DTEND:20180630T000000Z
SUMMARY:Slouchy beanie
GEO:-41.210331;174.93439
LOCATION:ReMakery\, 310 Waiwhetu Road\, Lower Hutt\, Wellington\, 5011\, Ne
 w Zealand
END:VEVENT
END:VCALENDAR
