BEGIN:VCALENDAR
VERSION:2.0
PRODID:-//Squarespace Inc/Squarespace 6//v6//EN
BEGIN:VEVENT
UID:5b0c8fd670a6addca9f55071@squarespace.com
DTSTAMP:20180712T100902Z
DTSTART:20180705T223000Z
DTEND:20180706T003000Z
SUMMARY:Friday give-it-a-go
GEO:-41.210331;174.93439
LOCATION:The ReMakery\, 310 Waiwhetu Road\, Lower Hutt\, Wellington\, 5011\
 , New Zealand
END:VEVENT
END:VCALENDAR
