BEGIN:VCALENDAR
VERSION:2.0
PRODID:-//Squarespace Inc/Squarespace 6//v6//EN
BEGIN:VEVENT
UID:5b0d01b3562fa7e07b36618c@squarespace.com
DTSTAMP:20180712T092208Z
DTSTART:20180722T223000Z
DTEND:20180723T010000Z
SUMMARY:Monday give-back
GEO:-41.210331;174.93439
LOCATION:The ReMakery\, 310 Waiwhetu Road\, Lower Hutt 5011\, New Zealand
END:VEVENT
END:VCALENDAR
